{"text_format":"1","workbook":"xlsx","n_sheets":4,"sheets":["Neuron","Network","Support sheet","Training"],"not_rendered":{"charts":0,"images":0,"macros":1,"external_links":0,"defined_names":0,"comments":0,"pivot_tables":0},"unopened":[],"bounds":{"document_bytes":16777216,"sheet_cells":100000,"rows_first":2000,"rows_last":500,"rows_between":2000,"halvings":0,"cell_chars":16384,"cell_head_chars":4096},"cells_cut":0,"cells_raw":0,"read":"whole","date_system":"1900"}

{"sheet":"Neuron","index":0,"n_rows":37,"n_cols":16,"rows_kept":37,"cut":false,"hidden":false,"merged":[[36,3,39,13],[8,6,25,7],[8,9,25,10],[8,12,25,13],[0,0,3,18],[7,6,7,7],[7,9,7,10],[7,12,7,13]]}
["The McCulloch and Pitts Neuron."]
[]
[]
[]
[]
[]
[]
[null,null,null,null,null,null,"Weighted Sum",null,null,"Threshold",null,null,"Activation Function"]
[null,null,"Input 1",null,"Weight 1",null,{"$f":"SUM((C10*E10)+(C15*E15)+(C20*E20)+(C25*E25))","v":0},null,null,3,null,null,{"$f":"IF(G9>=J9,1,0)","v":0}]
[null,null,0,null,1.5]
[]
[]
[]
[null,null,"Input 2",null,"Weight 2"]
[null,null,0,null,1]
[]
[null,null,null,null,null,null,null,null,null,null,null,null,null,null,null,"Output"]
[null,null,null,null,null,null,null,null,null,null,null,null,null,null,null,{"$f":"M9","v":0}]
[null,null,"Input 3",null,"Weight 3"]
[null,null,0,null,1]
[]
[]
[]
[null,null,"Input 4",null,"Weight 4"]
[null,null,0,null,1]
[]
[]
[]
[]
[]
[]
[]
[]
[]
[]
[]
[null,null,null,"Note Go to the next tab below \"Network\" to explore an artificial neural network."]

{"sheet":"Network","index":1,"n_rows":53,"n_cols":19,"rows_kept":53,"cut":false,"hidden":false,"merged":[[0,10,1,18],[2,10,2,11],[2,12,2,17],[14,12,15,12],[14,13,15,13],[24,12,25,12],[24,13,25,13],[5,6,6,6],[12,6,13,6],[19,6,20,6],[26,6,27,6],[33,6,34,6],[5,7,6,7],[12,7,13,7],[19,7,20,7],[26,7,27,7],[33,7,34,7]]}
[null,null,3,null,null,null,null,null,null,null,"A simple Artificial Neural Network"]
[]
[null,null,null,null,null,null,null,null,null,null,"Training --->",null,{"$f":"Training!M1","v":"And Gate"}]
[]
[null,null,null,null,null,{"$f":"'Support sheet'!F5","v":7.2849008033768232},{"$f":"'Support sheet'!H5","v":7.5367469831596878}]
[null,null,"Input 1 (Binary 1)",null,null,{"$f":"'Support sheet'!F6","v":8.7423931246624278},{"$f":"SUM((C7*F5)+(C16*F6)+(C25*F7)+(C34*F8))","v":10.305784103407571},{"$f":"IF(G6>G5,1,0)","v":1}]
[{"$f":"IF($C$1>32,33,\"\")","v":""},null,{"$f":"IF(B7=\"\",Training!A1,B7)","v":0},null,null,{"$f":"'Support sheet'!F7","v":1.5633909787451428},null,null,{"$f":"H6","v":1}]
[{"$f":"IF($C$1>31,32,\"\")","v":""},"Overide",null,null,null,{"$f":"'Support sheet'!F8","v":3.8921006483620291}]
[{"$f":"IF($C$1>30,31,\"\")","v":""}]
[{"$f":"IF($C$1>29,30,\"\")","v":""}]
[{"$f":"IF($C$1>28,29,\"\")","v":""}]
[{"$f":"IF($C$1>27,28,\"\")","v":""},null,null,null,null,{"$f":"'Support sheet'!F12","v":5.2545982474054913},{"$f":"'Support sheet'!H12","v":5.3737359778446159}]
[{"$f":"IF($C$1>26,27,\"\")","v":""},null,null,null,null,{"$f":"'Support sheet'!F13","v":7.6386057907376603},{"$f":"SUM((C7*F12)+(C16*F13)+(C25*F14)+(C34*F15))","v":10.355617355795195},{"$f":"IF(G13>G12,1,0)","v":1},null,null,null,{"$f":"'Support sheet'!M13","v":7.5833435408341394}]
[{"$f":"IF($C$1>25,26,\"\")","v":""},null,null,null,null,{"$f":"'Support sheet'!F14","v":2.7170115650575344},null,null,{"$f":"H13","v":1},null,null,{"$f":"'Support sheet'!M14","v":2.6566593059714005},{"$f":"'Support sheet'!O14","v":2.3632137918648954}]
[{"$f":"IF($C$1>24,25,\"\")","v":""},null,"Input 2 (Binary 2)",null,null,{"$f":"'Support sheet'!F15","v":4.9844947204924139},null,null,null,null,null,{"$f":"'Support sheet'!M15","v":1.6914059847098351},{"$f":"SUM((I7*L13)+(I14*L14)+(I21*L15)+(I28*L16)+(I35*L17))","v":16.659704058090064},{"$f":"IF(M15>M14,1,0)","v":1},null,null,null,"Even"]
[{"$f":"IF($C$1>23,24,\"\")","v":""},null,{"$f":"IF(B16=\"\",Training!A2,B16)","v":1},null,null,null,null,null,null,null,null,{"$f":"'Support sheet'!M16","v":6.0032654122091351},null,null,{"$f":"N15","v":1},null,null,{"$f":"IF(S16=\"\",Training!C2,S16)","v":0}]
[{"$f":"IF($C$1>22,23,\"\")","v":""},"Overide",null,null,null,null,null,null,null,null,null,{"$f":"'Support sheet'!M17","v":0.4164357990753853},null,null,null,null,null,null,"Overide"]
[{"$f":"IF($C$1>21,22,\"\")","v":""}]
[{"$f":"IF($C$1>20,21,\"\")","v":""},null,null,null,null,{"$f":"'Support sheet'!F19","v":5.9391290641114747},{"$f":"'Support sheet'!H19","v":9.1514094637799026}]
[{"$f":"IF($C$1>19,20,\"\")","v":""},null,null,null,null,{"$f":"'Support sheet'!F20","v":1.8203921193893358},{"$f":"SUM((C7*F19)+(C16*F20)+(C25*F21)+(C34*F22))","v":8.761067412609771},{"$f":"IF(G20>G19,1,0)","v":0}]
[{"$f":"IF($C$1>18,19,\"\")","v":""},null,null,null,null,{"$f":"'Support sheet'!F21","v":6.9406752932204352},null,null,{"$f":"H20","v":0}]
[{"$f":"IF($C$1>17,18,\"\")","v":""},null,null,null,null,{"$f":"'Support sheet'!F22","v":9.760967699889715}]
[{"$f":"IF($C$1>16,17,\"\")","v":""},null,null,null,null,null,null,null,null,null,null,{"$f":"'Support sheet'!M23","v":2.7599861974283812}]
[{"$f":"IF($C$1>15,16,\"\")","v":""},null,"Input 3 (Binary 4)",null,null,null,null,null,null,null,null,{"$f":"'Support sheet'!M24","v":5.40369589114992},{"$f":"'Support sheet'!O24","v":6.4252239589215421}]
[{"$f":"IF($C$1>14,15,\"\")","v":""},null,{"$f":"IF(B25=\"\",Training!A3,B25)","v":1},null,null,null,null,null,null,null,null,{"$f":"'Support sheet'!M25","v":3.9698456062776222},{"$f":"SUM((I7*L23)+(I14*L24)+(I21*L25)+(I28*L26)+(I35*L27))","v":14.89506598963918},{"$f":"IF(M25>M24,1,0)","v":1},null,null,null,"Odd"]
[{"$f":"IF($C$1>13,14,\"\")","v":""},"Overide",null,null,null,{"$f":"'Support sheet'!F26","v":3.4163553620928777},{"$f":"'Support sheet'!H26","v":6.1195629147794257},null,null,null,null,{"$f":"'Support sheet'!M26","v":1.6472638258344086},null,null,{"$f":"N25","v":1},null,null,{"$f":"IF(S26=\"\",Training!C3,S26)","v":0}]
[{"$f":"IF($C$1>12,13,\"\")","v":""},null,null,null,null,{"$f":"'Support sheet'!F27","v":8.5125969849138823},{"$f":"SUM((C7*F26)+(C16*F27)+(C25*F28)+(C34*F29))","v":15.765511659329905},{"$f":"IF(G27>G26,1,0)","v":1},null,null,null,{"$f":"'Support sheet'!M27","v":5.0841200752264708},null,null,null,null,null,null,"Overide"]
[{"$f":"IF($C$1>11,12,\"\")","v":""},null,null,null,null,{"$f":"'Support sheet'!F28","v":7.2529146744160222},null,null,{"$f":"H27","v":1}]
[{"$f":"IF($C$1>10,11,\"\")","v":""},null,null,null,null,{"$f":"'Support sheet'!F29","v":9.9224071770778224}]
[{"$f":"IF($C$1>9,10,\"\")","v":""}]
[{"$f":"IF($C$1>8,9,\"\")","v":""}]
[{"$f":"IF($C$1>7,8,\"\")","v":""}]
[{"$f":"IF($C$1>6,7,\"\")","v":""},null,"Input 4 (Binary 8)",null,null,{"$f":"'Support sheet'!F33","v":8.7689785715176392},{"$f":"'Support sheet'!H33","v":4.7470448679619448}]
[{"$f":"IF($C$1>5,6,\"\")","v":""},null,{"$f":"IF(B34=\"\",Training!A4,B34)","v":0},null,null,{"$f":"'Support sheet'!F34","v":4.6195632343636177},{"$f":"SUM((C7*F33)+(C16*F34)+(C25*F35)+(C34*F36))","v":9.8495436251051043},{"$f":"IF(G34>G33,1,0)","v":1}]
[{"$f":"IF($C$1>4,5,\"\")","v":""},"Overide",null,null,null,{"$f":"'Support sheet'!F35","v":5.2299803907414866},null,null,{"$f":"H34","v":1}]
[{"$f":"IF($C$1>3,4,\"\")","v":""},null,null,null,null,{"$f":"'Support sheet'!F36","v":5.7198685925352954}]
[{"$f":"IF($C$1>2,3,\"\")","v":3}]
[{"$f":"IF($C$1>1,2,\"\")","v":2}]
[{"$f":"IF($C$1>0,1,\"\")","v":1}]
[]
[]
[]
[null,null,"Notes for use on Network usage."]
[null,null,"Note that the input overides are where you input your numbers and they have to contain either a one or a zero before they will work, except during training… then they have to be blank."]
[]
[null,null,"Ctrl + R = Randomize pathways"]
[null,null,"Ctrl + Q = Start Learning Learning"]
[]
[null,null,"Once again it is important to make sure there is nothing in the Overide Box's… No ones or zeros, but have them blank for learning."]
[]
[null,null,"On the Training page select the training session you are interested in and copy it to the Training Field."]
[]
[null,null,"The Red learning progress bar on the Left climbes higher with increased network learning and will automatically stop the training session when mastery is attained. "]

{"sheet":"Support sheet","index":2,"n_rows":36,"n_cols":20,"rows_kept":36,"cut":false,"hidden":false,"merged":[[33,7,34,7],[33,8,34,8],[19,7,20,7],[19,8,20,8],[24,14,25,14],[24,15,25,15],[26,7,27,7],[26,8,27,8],[5,7,6,7],[5,8,6,8],[12,7,13,7],[12,8,13,8],[14,14,15,14],[14,15,15,15]]}
[{"$f":"(RAND())*10","v":4.2358190071249746}]
[]
[]
[]
[null,null,null,null,{"$f":"IF(C7*F5<>0,K7,0)","v":0},7.2849008033768232,{"$f":"IF((E5<>0),F5+K7,F5)","v":7.2849008033768232},7.5367469831596878]
[null,null,"Input 1",null,{"$f":"IF(C16*F6<>0,K7,0)","v":-2.1},8.7423931246624278,{"$f":"IF((E6<>0),F6+K7,F6)","v":6.6423931246624281},{"$f":"SUM((C7*F5)+(C16*F6)+(C25*F7)+(C34*F8))","v":10.305784103407571},{"$f":"IF(H6>H5,1,0)","v":1}]
[null,null,{"$f":"Network!C7","v":0},null,{"$f":"IF(C25*F7<>0,K7,0)","v":-2.1},1.5633909787451428,{"$f":"IF((E7<>0),F7+K7,F7)","v":-0.53660902125485732},null,null,{"$f":"I6","v":1},{"$f":"SUM(L13+L23+0.1)","v":-2.1}]
[null,null,null,null,{"$f":"IF(C34*F8<>0,K7,0)","v":0},3.8921006483620291,{"$f":"IF((E8<>0),F8+K7,F8)","v":3.8921006483620291}]
[]
[]
[]
[null,null,null,null,{"$f":"IF(C7*F12>0,K14,0)","v":0},5.2545982474054913,{"$f":"IF((E12<>0),F12+K14,F12)","v":5.2545982474054913},5.3737359778446159]
[null,null,null,null,{"$f":"IF(C16*F13>0,K14,0)","v":-2.1},7.6386057907376603,{"$f":"IF((E13<>0),F13+K14,F13)","v":5.5386057907376607},{"$f":"SUM((C7*F12)+(C16*F13)+(C25*F14)+(C34*F15))","v":10.355617355795195},{"$f":"IF(H13>H12,1,0)","v":1},null,null,{"$f":"IF(J7*M13<>0,R16,0)","v":-1.1000000000000001},7.5833435408341394,{"$f":"IF((L13<>0),M13+R16,M13)","v":6.4833435408341398}]
[null,null,null,null,{"$f":"IF(C25*F14>0,K14,0)","v":-2.1},2.7170115650575344,{"$f":"IF((E14<>0),F14+K14,F14)","v":0.61701156505753429},null,null,{"$f":"I13","v":1},{"$f":"SUM(L14+L24+0.1)","v":-2.1},{"$f":"IF(J14*M14<>0,R16,0)","v":-1.1000000000000001},2.6566593059714005,{"$f":"IF((L14<>0),M14+R16,M14)","v":1.5566593059714005},2.3632137918648954]
[null,null,"Input 2",null,{"$f":"IF(C34*F15>0,K14,0)","v":0},4.9844947204924139,{"$f":"IF((E15<>0),F15+K14,F15)","v":4.9844947204924139},null,null,null,null,{"$f":"IF(J21*M15<>0,R16,0)","v":0},1.6914059847098351,{"$f":"IF((L15<>0),M15+R16,M15)","v":1.6914059847098351},{"$f":"SUM((J7*M13)+(J14*M14)+(J21*M15)+(J28*M16)+(J35*M17))","v":16.659704058090064},{"$f":"IF(O15>O14,1,0)","v":1}]
[null,null,{"$f":"Network!C16","v":1},null,null,null,null,null,null,null,null,{"$f":"IF(J28*M16<>0,R16,0)","v":-1.1000000000000001},6.0032654122091351,{"$f":"IF((L16<>0),M16+R16,M16)","v":4.9032654122091355},null,null,{"$f":"P15","v":1},{"$f":"IF(Q16=T16,0,T17)","v":-1.1000000000000001},null,{"$f":"Network!R16","v":0}]
[null,null,null,null,null,null,null,null,null,null,null,{"$f":"IF(J35*M17<>0,R16,0)","v":-1.1000000000000001},0.4164357990753853,{"$f":"IF((L17<>0),M17+R16,M17)","v":-0.68356420092461478},null,null,null,null,null,{"$f":"IF(Q16>T16,-1.1,1.2)","v":-1.1000000000000001}]
[]
[null,null,null,null,{"$f":"IF(C7*F19>0,K21,0)","v":0},5.9391290641114747,{"$f":"IF((E19<>0),F19+K21,F19)","v":5.9391290641114747},9.1514094637799026]
[null,null,null,null,{"$f":"IF(C16*F20>0,K21,0)","v":0.1},1.8203921193893358,{"$f":"IF((E20<>0),F20+K21,F20)","v":1.9203921193893358},{"$f":"SUM((C7*F19)+(C16*F20)+(C25*F21)+(C34*F22))","v":8.761067412609771},{"$f":"IF(H20>H19,1,0)","v":0}]
[null,null,null,null,{"$f":"IF(C25*F21>0,K21,0)","v":0.1},6.9406752932204352,{"$f":"IF((E21<>0),F21+K21,F21)","v":7.0406752932204348},null,null,{"$f":"I20","v":0},{"$f":"SUM(L15+L25+0.1)","v":0.1}]
[null,null,null,null,{"$f":"IF(C34*F22>0,K21,0)","v":0},9.760967699889715,{"$f":"IF((E22<>0),F22+K21,F22)","v":9.760967699889715}]
[null,null,null,null,null,null,null,null,null,null,null,{"$f":"IF(J7*M23<>0,R26,0)","v":-1.1000000000000001},2.7599861974283812,{"$f":"IF((L23<>0),M23+R26,M23)","v":1.6599861974283812}]
[null,null,"Input 3",null,null,null,null,null,null,null,null,{"$f":"IF(J14*M24<>0,R26,0)","v":-1.1000000000000001},5.40369589114992,{"$f":"IF((L24<>0),M24+R26,M24)","v":4.3036958911499195},6.4252239589215421]
[null,null,{"$f":"Network!C25","v":1},null,null,null,null,null,null,null,null,{"$f":"IF(J21*M25<>0,R26,0)","v":0},3.9698456062776222,{"$f":"IF((L25<>0),M25+R26,M25)","v":3.9698456062776222},{"$f":"SUM((J7*M23)+(J14*M24)+(J21*M25)+(J28*M26)+(J35*M27))","v":14.89506598963918},{"$f":"IF(O25>O24,1,0)","v":1}]
[null,null,null,null,{"$f":"IF(C7*F26>0,K28,0)","v":0},3.4163553620928777,{"$f":"IF((E26<>0),F26+K28,F26)","v":3.4163553620928777},6.1195629147794257,null,null,null,{"$f":"IF(J28*M26<>0,R26,0)","v":-1.1000000000000001},1.6472638258344086,{"$f":"IF((L26<>0),M26+R26,M26)","v":0.54726382583440847},null,null,{"$f":"P25","v":1},{"$f":"IF(Q26=T26,0,T27)","v":-1.1000000000000001},null,{"$f":"Network!R26","v":0}]
[null,null,null,null,{"$f":"IF(C16*F27>0,K28,0)","v":-2.1},8.5125969849138823,{"$f":"IF((E27<>0),F27+K28,F27)","v":6.4125969849138826},{"$f":"SUM((C7*F26)+(C16*F27)+(C25*F28)+(C34*F29))","v":15.765511659329905},{"$f":"IF(H27>H26,1,0)","v":1},null,null,{"$f":"IF(J35*M27<>0,R26,0)","v":-1.1000000000000001},5.0841200752264708,{"$f":"IF((L27<>0),M27+R26,M27)","v":3.9841200752264707},null,null,null,null,null,{"$f":"IF(Q26>T26,-1.1,1.2)","v":-1.1000000000000001}]
[null,null,null,null,{"$f":"IF(C25*F28>0,K28,0)","v":-2.1},7.2529146744160222,{"$f":"IF((E28<>0),F28+K28,F28)","v":5.1529146744160226},null,null,{"$f":"I27","v":1},{"$f":"SUM(L16+L26+0.1)","v":-2.1}]
[null,null,null,null,{"$f":"IF(C34*F29>0,K28,0)","v":0},9.9224071770778224,{"$f":"IF((E29<>0),F29+K28,F29)","v":9.9224071770778224}]
[]
[]
[]
[null,null,"Input 4",null,{"$f":"IF(C7*F33>0,K35,0)","v":0},8.7689785715176392,{"$f":"IF((E33<>0),F33+K35,F33)","v":8.7689785715176392},4.7470448679619448]
[null,null,{"$f":"Network!C34","v":0},null,{"$f":"IF(C16*F34>0,K35,0)","v":-2.1},4.6195632343636177,{"$f":"IF((E34<>0),F34+K35,F34)","v":2.5195632343636176},{"$f":"SUM((C7*F33)+(C16*F34)+(C25*F35)+(C34*F36))","v":9.8495436251051043},{"$f":"IF(H34>H33,1,0)","v":1}]
[null,null,null,null,{"$f":"IF(C25*F35>0,K35,0)","v":-2.1},5.2299803907414866,{"$f":"IF((E35<>0),F35+K35,F35)","v":3.1299803907414865},null,null,{"$f":"I34","v":1},{"$f":"SUM(L17+L27+0.1)","v":-2.1}]
[null,null,null,null,{"$f":"IF(C34*F36<>0,K35,0)","v":0},5.7198685925352954,{"$f":"IF((E36<>0),F36+K35,F36)","v":5.7198685925352954}]

{"sheet":"Training","index":3,"n_rows":37,"n_cols":60,"rows_kept":37,"cut":false,"hidden":false,"merged":[[21,12,24,17],[0,54,0,59],[0,33,0,38],[19,33,19,38],[0,40,0,45],[19,40,19,45],[0,47,0,52],[19,47,19,52],[0,12,0,17],[0,19,0,24],[19,19,19,24],[0,26,0,31],[19,26,19,31]]}
[{"$f":"I2","v":0},"Inp 1",null,null,null,"Inp 4 (8)","Inp3 (4)","Inp3 (2)","Inp3 (1)","Out Top (E)","Out Btm (O)",null,"And Gate",null,null,null,null,null,null,"Even Odd",null,null,null,null,null,null,"And Gate",null,null,null,null,null,null,"Nand Gate & And Gate",null,null,null,null,null,null,"Yes Gate",null,null,null,null,null,null,"Inverter Gate",null,null,null,null,null,null,"Experiment"]
[{"$f":"H2","v":1},"Inp 2",{"$f":"J2","v":0},"Out Top",null,0,1,1,0,0,0,null,0,1,1,1,0,0,null,0,0,0,1,0,1,null,0,1,1,1,0,0,null,0,1,1,1,1,0,null,1,1,1,0,0,0,null,1,1,1,0,1,1,null,0,0,0,0,0,0]
[{"$f":"G2","v":1},"Inp 3",{"$f":"K2","v":0},"Out Bottom",null,0,1,1,1,0,0,null,1,1,1,0,0,0,null,0,0,1,0,1,0,null,1,1,1,0,0,0,null,1,1,1,0,1,0,null,1,1,1,1,1,1,null,1,1,1,1,0,0,null,0,0,0,1,0,0]
[{"$f":"F2","v":0},"Inp 4",null,null,null,1,1,1,0,0,0,null,1,1,1,1,1,1,null,0,0,1,1,0,1,null,1,1,1,1,1,1,null,1,1,1,1,0,1,null,1,1,1,0,0,0,null,1,1,1,0,1,1,null,0,0,1,0,0,0]
[null,null,null,null,null,1,1,1,1,1,1,null,0,1,1,0,0,0,null,0,0,1,0,1,0,null,0,1,1,0,0,0,null,0,1,1,0,1,0,null,1,1,1,1,1,1,null,1,1,1,1,0,0,null,0,0,1,1,0,0]
[null,null,null,null,null,0,1,1,0,0,0,null,0,1,1,1,0,0,null,0,0,1,1,0,1,null,0,1,1,1,0,0,null,0,1,1,1,1,0,null,1,1,1,0,0,0,null,1,1,1,0,1,1,null,0,1,0,0,0,0]
[null,null,null,null,null,0,1,1,1,0,0,null,1,1,1,0,0,0,null,0,1,0,0,1,0,null,1,1,1,0,0,0,null,1,1,1,0,1,0,null,1,1,1,1,1,1,null,1,1,1,1,0,0,null,0,1,0,1,0,0]
[null,null,null,null,null,1,1,1,0,0,0,null,1,1,1,1,1,1,null,0,1,0,1,0,1,null,1,1,1,1,1,1,null,1,1,1,1,0,1,null,1,1,1,0,0,0,null,1,1,1,0,1,1,null,0,1,1,0,0,0]
[null,null,null,null,null,1,1,1,1,1,1,null,0,1,1,0,0,0,null,0,1,1,0,1,0,null,0,1,1,0,0,0,null,0,1,1,0,1,0,null,1,1,1,1,1,1,null,1,1,1,1,0,0,null,0,1,1,1,1,1]
[null,null,null,null,null,0,1,1,0,0,0,null,0,1,1,1,0,0,null,0,1,1,1,0,1,null,0,1,1,1,0,0,null,0,1,1,1,1,0,null,1,1,1,0,0,0,null,1,1,1,0,1,1,null,1,0,0,0,0,0]
[null,null,null,null,null,0,1,1,1,0,0,null,1,1,1,0,0,0,null,1,0,0,0,1,0,null,1,1,1,0,0,0,null,1,1,1,0,1,0,null,1,1,1,1,1,1,null,1,1,1,1,0,0,null,1,0,0,1,0,0]
[null,null,null,null,null,1,1,1,0,0,0,null,1,1,1,1,1,1,null,1,0,0,1,0,1,null,1,1,1,1,1,1,null,1,1,1,1,0,1,null,1,1,1,0,0,0,null,1,1,1,0,1,1,null,1,0,1,0,0,0]
[null,null,null,null,null,1,1,1,1,1,1,null,0,1,1,0,0,0,null,1,0,1,0,1,0,null,0,1,1,0,0,0,null,0,1,1,0,1,0,null,1,1,1,1,1,1,null,1,1,1,1,0,0,null,1,0,1,1,1,1]
[null,null,null,null,null,0,1,1,0,0,0,null,0,1,1,1,0,0,null,1,0,1,1,0,1,null,0,1,1,1,0,0,null,0,1,1,1,1,0,null,1,1,1,0,0,0,null,1,1,1,0,1,1,null,1,1,0,0,0,0]
[null,null,null,null,null,1,1,1,1,1,1,null,1,1,1,0,0,0,null,1,1,0,0,1,0,null,1,1,1,0,0,0,null,1,1,1,0,1,0,null,1,1,1,1,1,1,null,1,1,1,1,0,0,null,1,1,0,1,1,1]
[null,null,null,null,null,null,null,null,null,null,null,null,1,1,1,1,1,1,null,1,1,0,1,0,1,null,1,1,1,1,1,1,null,1,1,1,1,0,1,null,1,1,1,0,0,0,null,1,1,1,0,1,1,null,1,1,1,0,1,1]
[null,null,null,null,null,null,null,null,null,null,null,null,0,1,1,0,0,0,null,1,1,1,0,1,0,null,0,1,1,0,0,0,null,0,1,1,0,1,0,null,1,1,1,1,1,1,null,1,1,1,1,0,0,null,1,1,1,1,0,0]
[null,null,null,null,null,null,null,null,null,null,null,null,1,1,1,1,1,1,null,1,1,1,1,0,1,null,1,1,1,1,1,1,null,1,1,1,1,0,1,null,1,1,1,0,0,0,null,1,1,1,0,1,1,null,0,0,0,0,0,0]
[]
[null,null,null,null,null,null,null,null,null,null,null,null,null,null,null,null,null,null,null,"Or Gate",null,null,null,null,null,null,"Nand Gate",null,null,null,null,null,null,"Nor Gate",null,null,null,null,null,null,"Inverter Gate",null,null,null,null,null,null,"Xor Gate"]
[null,null,null,null,null,null,null,null,null,null,null,null,null,null,null,null,null,null,null,0,1,1,1,1,1,null,0,1,1,1,1,1,null,0,1,1,1,0,0,null,1,1,1,0,1,1,null,0,1,1,0,0,0]
[null,null,null,null,null,null,null,null,null,null,null,null,"Training field above",null,null,null,null,null,null,1,1,1,0,1,1,null,1,1,1,0,1,1,null,1,1,1,0,0,0,null,1,1,1,1,0,0,null,0,1,1,1,1,1]
[null,null,null,null,null,null,null,null,null,null,null,null,null,null,null,null,null,null,null,1,1,1,1,1,1,null,1,1,1,1,0,0,null,1,1,1,1,0,0,null,1,1,1,0,1,1,null,1,1,1,0,1,1]
[null,null,null,null,null,null,null,null,null,null,null,null,null,null,null,null,null,null,null,0,1,1,0,0,0,null,0,1,1,0,1,1,null,0,1,1,0,1,1,null,1,1,1,1,0,0,null,1,1,1,1,0,0]
[null,null,null,null,null,null,null,null,null,null,null,null,null,null,null,null,null,null,null,0,1,1,1,1,1,null,0,1,1,1,1,1,null,0,1,1,1,0,0,null,1,1,1,0,1,1,null,0,1,1,0,0,0]
[null,null,null,null,null,null,null,null,null,null,null,null,null,null,null,null,null,null,null,1,1,1,0,1,1,null,1,1,1,0,1,1,null,1,1,1,0,0,0,null,1,1,1,1,0,0,null,0,1,1,1,1,1]
[null,null,null,null,null,null,null,null,null,null,null,null,null,null,null,null,null,null,null,1,1,1,1,1,1,null,1,1,1,1,0,0,null,1,1,1,1,0,0,null,1,1,1,0,1,1,null,1,1,1,0,1,1]
[null,null,null,null,null,null,null,null,null,null,null,null,null,null,null,null,null,null,null,0,1,1,0,0,0,null,0,1,1,0,1,1,null,0,1,1,0,1,1,null,1,1,1,1,0,0,null,1,1,1,1,0,0]
[null,null,null,null,null,null,null,null,null,null,null,null,null,null,null,null,null,null,null,0,1,1,1,1,1,null,0,1,1,1,1,1,null,0,1,1,1,0,0,null,1,1,1,0,1,1,null,0,1,1,0,0,0]
[null,null,null,null,null,null,null,null,null,null,null,null,null,null,null,null,null,null,null,1,1,1,0,1,1,null,1,1,1,0,1,1,null,1,1,1,0,0,0,null,1,1,1,1,0,0,null,0,1,1,1,1,1]
[null,null,null,null,null,null,null,null,null,null,null,null,null,null,null,null,null,null,null,1,1,1,1,1,1,null,1,1,1,1,0,0,null,1,1,1,1,0,0,null,1,1,1,0,1,1,null,1,1,1,0,1,1]
[null,null,null,null,null,null,null,null,null,null,null,null,null,null,null,null,null,null,null,0,1,1,0,0,0,null,0,1,1,0,1,1,null,0,1,1,0,1,1,null,1,1,1,1,0,0,null,1,1,1,1,0,0]
[null,null,null,null,null,null,null,null,null,null,null,null,null,null,null,null,null,null,null,0,1,1,1,1,1,null,0,1,1,1,1,1,null,0,1,1,1,0,0,null,1,1,1,0,1,1,null,0,1,1,0,0,0]
[null,null,null,null,null,null,null,null,null,null,null,null,null,null,null,null,null,null,null,1,1,1,0,1,1,null,1,1,1,0,1,1,null,1,1,1,0,0,0,null,1,1,1,1,0,0,null,0,1,1,1,1,1]
[null,null,null,null,null,null,null,null,null,null,null,null,null,null,null,null,null,null,null,1,1,1,1,1,1,null,1,1,1,1,0,0,null,1,1,1,1,0,0,null,1,1,1,0,1,1,null,1,1,1,0,1,1]
[null,null,null,null,null,null,null,null,null,null,null,null,null,null,null,null,null,null,null,0,1,1,0,0,0,null,0,1,1,0,1,1,null,0,1,1,0,1,1,null,1,1,1,1,0,0,null,1,1,1,1,0,0]
[null,null,null,null,null,null,null,null,null,null,null,null,null,null,null,null,null,null,null,1,1,1,1,1,1,null,1,1,1,1,0,0,null,1,1,1,1,0,0,null,1,1,1,0,1,1,null,0,1,1,1,1,1]